BEGIN:VCALENDAR
VERSION:2.0
PRODID:DPCALENDAR
CALSCALE:GREGORIAN
X-WR-TIMEZONE:UTC
BEGIN:VEVENT
DTSTART:20260518T170000Z
DTEND:20260518T203000Z
UID:cef8e725913c99aea86fa7679fd3666d
RECURRENCE-ID:20260518T170000Z
SUMMARY:Yoga
DTSTAMP:20171223T093415Z
DESCRIPTION:Veranstalterin: Dr. Astrid Schliephorst\NKursleiterin: Dr. Astrid Schliephorst\NZeiten:        jeweils Montag   17.00 - 18.30 Uhr\N                                           19.00 - 20.30 Uhr\NOrt:            Gesundheitszentrum Deubener\N                             Bahnhofstraße 11\N                       37293 Herleshausen\N                       nur als Blockkurs, 10 x 90 min, 190,00 Euro buchbar\NAnmeldung:   yogaschuleeisenach@web.de\N                     oder Eisenach 03691 805728\N                     oder L.E.B.E Trainingszentrum Herleshausen 05654 923099\N
X-ALT-DESC;FMTTYPE=text/html:<p><span style="font-family: arial black, avant garde; font-size: 18pt; color: #ff0000;">Veranstalterin: Dr. Astrid Schliephorst</span></p><p><span style="font-size: 14pt;">Kursleiterin: Dr. Astrid Schliephorst</span></p><p><span style="font-size: 14pt;">Zeiten:&nbsp; &nbsp; &nbsp; &nbsp; jeweils Montag&nbsp; &nbsp;17.00 - 18.30 Uhr</span></p><p><span style="font-size: 14pt;">&nbsp; &nbsp; &nbsp; &nbsp; &nbsp; &nbsp; &nbsp; &nbsp; &nbsp; &nbsp; &nbsp; &nbsp; &nbsp; &nbsp; &nbsp; &nbsp; &nbsp; &nbsp; &nbsp; &nbsp; &nbsp; &nbsp;19.00 - 20.30 Uhr</span></p><p><span style="font-size: 14pt;">Ort:&nbsp; &nbsp; &nbsp; &nbsp; &nbsp; &nbsp; Gesundheitszentrum Deubener</span></p><p>&nbsp; &nbsp; &nbsp; &nbsp; &nbsp; &nbsp; &nbsp; &nbsp; &nbsp; &nbsp; &nbsp; &nbsp; &nbsp; &nbsp;<span style="font-family: arial, helvetica, sans-serif; font-size: 14pt;"> &nbsp;Bahnhofstra&szlig;e 11</span></p><p><span style="font-family: arial, helvetica, sans-serif; font-size: 14pt;">&nbsp; &nbsp; &nbsp; &nbsp; &nbsp; &nbsp; &nbsp; &nbsp; &nbsp; &nbsp; &nbsp; &nbsp;37293 Herleshausen</span></p><p><span style="font-family: arial, helvetica, sans-serif; font-size: 14pt;">&nbsp; &nbsp; &nbsp; &nbsp; &nbsp; &nbsp; &nbsp; &nbsp; &nbsp; &nbsp; &nbsp; &nbsp;nur als Blockkurs, 10 x 90 min, 190,00 Euro buchbar</span></p><p><span style="font-family: arial, helvetica, sans-serif; font-size: 14pt;">Anmeldung:&nbsp; &nbsp;<a href="mailto:yogaschuleeisenach@web.de">yogaschuleeisenach@web.de</a></span></p><p><span style="font-family: arial, helvetica, sans-serif; font-size: 14pt;">&nbsp; &nbsp; &nbsp; &nbsp; &nbsp; &nbsp; &nbsp; &nbsp; &nbsp; &nbsp; &nbsp;oder Eisenach 03691 805728</span></p><p><span style="font-family: arial, helvetica, sans-serif; font-size: 14pt;">&nbsp; &nbsp; &nbsp; &nbsp; &nbsp; &nbsp; &nbsp; &nbsp; &nbsp; &nbsp; &nbsp;oder L.E.B.E Trainingszentrum Herleshausen 05654 923099</span></p><p><span style="font-size: 14pt; font-family: arial, helvetica, sans-serif;"></span></p>
X-ACCESS:1
X-MODIFIED:20260109T082627Z
X-HITS:31
X-URL:
X-COLOR:3B48FF
END:VEVENT
END:VCALENDAR